{"text_format":"1","workbook":"xlsx","n_sheets":4,"sheets":["Résultat du jour","Résultats","Pour le site Résultat","Pour le site Classement"],"not_rendered":{"charts":0,"images":2,"macros":1,"external_links":0,"defined_names":21,"comments":0,"pivot_tables":0},"unopened":[],"bounds":{"document_bytes":16777216,"sheet_cells":100000,"rows_first":2000,"rows_last":500,"rows_between":2000,"halvings":0,"cell_chars":16384,"cell_head_chars":4096},"cells_cut":0,"cells_raw":0,"read":"whole","date_system":"1900"}

{"sheet":"Résultat du jour","index":0,"n_rows":38,"n_cols":21,"rows_kept":38,"cut":false,"hidden":false,"merged":[[0,1,1,7],[2,1,3,7]]}
[null,"Résultat 30/09/2015",null,null,null,null,null,null,null,null,null,null,null,null,null,null,null,null,null,"ordre","point"]
[null,null,null,null,null,null,null,null,null,null,null,null,null,null,null,null,null,null,null,1,20]
[null,null,null,null,null,null,null,null,null,null,null,null,null,null,null,null,null,null,null,2,19]
[{"$f":"TODAY()","v":"2015-10-11"},null,null,null,null,null,null,null,null,null,null,null,null,null,null,null,null,null,null,3,18]
[null,null,null,null,null,null,null,null,null,null,null,null,null,null,null,null,null,null,null,4,17]
[null,null,null,null,null,{"$f":"COUNTIF($F$8:$F$38,\">0\")","v":12},{"$f":"COUNTIF($G$8:$G$38,\">0\")","v":12},{"$f":"COUNTIF($H$8:$H$38,\">0\")","v":11},{"$f":"IF(SUM($I$8:$I$38)=SUM(F6:H6)/3,1,0)","v":0},null,null,null,null,null,null,null,null,null,null,5,16]
["Classement","Prénom","Points","Série","Moyenne","L1","L2","L3","contrôle","archives\nligne","Meilleure\nligne","archives\nsérie","Meilleure\nsérie",null,null,null,null,null,null,6,15]
[{"$f":"IF($E8=\"\",\"\",RANK($E8,$E$8:$E$38))","v":8},"Catherine",{"$f":"IF(A8<>\"\",VLOOKUP(A8,$T$2:$U$28,2,FALSE),\"\")","v":13},{"$f":"IF(COUNTIF(F8:H8,\">=0\")>0,SUM(F8:H8),\"\")","v":380},{"$f":"IF(COUNTIF(F8:H8,\"\")=3,\"\",AVERAGE(F8:H8))","v":126.66666666666667},148,108,124,{"$f":"IF(OR(F8>0,G8>0,H8>0),1,\"\")","v":1},null,{"$f":"IF($E8=0,$J8,(IF(AND(MAX($F8:$H8)=\"\",$J8=\"\"),\"\",IF(MAX($F8:$H8)>$J8,MAX($F8:$H8),$J8))))","v":148},null,null,null,null,null,null,null,null,7,14]
[11,"Brigitte",10,304,101.33333333333333,82,120,102,1,null,120,null,null,null,null,null,null,null,null,8,13]
[3,"Frederic",18,474,158,161,168,145,1,null,168,null,null,null,null,null,null,null,null,9,12]
["","Franck","","","",null,null,null,"",null,0,null,null,null,null,null,null,null,null,10,11]
[7,"François",14,259,129.5,117,142,null,1,null,142,null,null,null,null,null,null,null,null,11,10]
[2,"Jean-Yves",19,542,180.66666666666666,172,181,189,1,null,189,null,null,null,null,null,null,null,null,12,9]
[5,"Gerard",16,454,151.33333333333334,154,157,143,1,null,157,null,null,null,null,null,null,null,null,13,8]
[10,"Paul",11,340,113.33333333333333,113,118,109,1,null,118,null,null,null,null,null,null,null,null,14,7]
[4,"Michel M",17,472,157.33333333333334,208,130,134,1,null,208,null,null,null,null,null,null,null,null,15,6]
[6,"Manu",15,436,145.33333333333334,116,163,157,1,null,163,null,null,null,null,null,null,null,null,16,5]
[1,"Julien",20,551,183.66666666666666,141,205,205,1,null,205,null,null,null,null,null,null,null,null,17,4]
[12,"Bernard",9,303,101,81,104,118,1,null,118,null,null,null,null,null,null,null,null,18,3]
[9,"Daniel",12,379,126.33333333333333,127,141,111,1,null,141,null,null,null,null,null,null,null,null,19,2]
["",null,"","","",null,null,null,"",null,0,null,null,null,null,null,null,null,null,20,1]
["",null,"","","",null,null,null,"",null,0]
["",null,"","","",null,null,null,"",null,0]
["",null,"","","",null,null,null,"",null,0]
["",null,"","","",null,null,null,"",null,0]
["",null,"","","",null,null,null,"",null,0]
["",null,"","","",null,null,null,"",null,0]
["",null,"","","",null,null,null,"",null,0]
["",null,"","","",null,null,null,"",null,0]
["",null,"","","",null,null,null,"",null,0]
["",null,"","","",null,null,null,"",null,0]
["",null,"","","",null,null,null,"",null,0,0,{"$f":"IF(OR(D32=\"\",$D32=0),$L32,IF($D32>$L32,$D32,$L32))","v":0}]
["",null,"","","",null,null,null,"",0,0,0,0]
["",null,"","","",null,null,null,"",0,0,0,0]
["",null,"","","",null,null,null,"",0,0,0,0]
["",null,"","","",null,null,null,"",0,0,0,0]
["",null,"","","",null,null,null,"",0,0,0,0]
["",null,"","","",null,null,null,"",0,0,0,0]

{"sheet":"Résultats","index":1,"n_rows":81,"n_cols":59,"rows_kept":81,"cut":false,"hidden":false,"merged":[[1,7,1,58]]}
[]
[null,null,null,null,null,null,null,"POINTS MARQUES"]
[null,null,null,null,null,null,null,"J1","J2","J3","J4","J5","J6","J7","J8","J9","J10","J11","J12","J13","J14","J15","J16","J17","J18","J19","J20","J21","J22","J23","J24","J25","J26","J27","J28","J29","J30","J31","J32","J33","J34","J35","J36","J37","J38","J39","J40","J41","J42","J43","J44","J45","J46","J47","J48","J49","J50","J51","J52"]
["Prénom","Total Points","Moyenne","Nb de journée","ML","MS","Classement Individuel","2013-12-06","2013-12-06","2013-12-06","2013-12-06","2013-12-06","2013-12-13","2014-01-11","2014-01-16","2014-01-23"]
[]
["Franck",{"$f":"IF(SUM(H6:BG6)=0,\"\",SUM(H6:BG6))","v":135},{"$f":"IF(SUM($H6:$BG6)=0,\"\",SUM($H6:$BG6)/COUNTIF($H6:$BG6,\">=0\"))","v":16.875},{"$f":"IF(A6=\"\",\"\",COUNTIF(H6:BG6,\">=0\"))","v":8},{"$f":"'Résultat du jour'!K14","v":157},{"$f":"'Résultat du jour'!M14","v":0},{"$f":"IF(B6=\"\",\"\",RANK($B6,$B$6:$B$81,0))","v":1},19,18,15,13,18,17,16,19,""]
["Tony",127,18.142857142857142,7,{"$f":"'Résultat du jour'!K31","v":0},{"$f":"'Résultat du jour'!M31","v":0},2,20,20,16,19,null,14,"",18,20]
["Manu",116,14.5,8,{"$f":"'Résultat du jour'!K23","v":0},{"$f":"'Résultat du jour'!M23","v":0},3,17,7,null,17,17,16,12,13,17]
["Michel M",115,14.375,8,{"$f":"'Résultat du jour'!K24","v":0},{"$f":"'Résultat du jour'!M24","v":0},4,13,16,7,18,null,10,17,16,18]
["Jean-Yves",100,14.285714285714286,7,{"$f":"'Résultat du jour'!K21","v":0},{"$f":"'Résultat du jour'!M21","v":0},5,null,17,12,14,20,13,9,15,""]
["Julien",97,10.777777777777779,9,{"$f":"'Résultat du jour'!K22","v":0},{"$f":"'Résultat du jour'!M22","v":0},6,11,14,11,11,12,5,11,11,11]
["Bertrand",93,15.5,6,{"$f":"'Résultat du jour'!K10","v":168},{"$f":"'Résultat du jour'!M10","v":0},7,null,null,20,15,15,"",15,13,15]
["Jean-Pierre",91,13,7,{"$f":"'Résultat du jour'!K20","v":141},{"$f":"'Résultat du jour'!M20","v":0},8,10,15,13,null,null,9,18,14,12]
["Michel N",79,9.875,8,{"$f":"'Résultat du jour'!K25","v":0},{"$f":"'Résultat du jour'!M25","v":0},9,12,13,8,10,11,12,"",4,9]
["Jacky",77,19.25,4,{"$f":"'Résultat du jour'!K18","v":205},{"$f":"'Résultat du jour'!M18","v":0},10,null,null,"","","",18,20,20,19]
["Jean-Marie",74,12.333333333333334,6,{"$f":"'Résultat du jour'!K19","v":118},{"$f":"'Résultat du jour'!M19","v":0},11,18,null,10,12,13,11,"","",10]
["Sébastien",72,18,4,{"$f":"'Résultat du jour'!K28","v":0},{"$f":"'Résultat du jour'!M28","v":0},12,14,null,18,20,null,20,"","",""]
["Frederic",70,14,5,{"$f":"'Résultat du jour'!K16","v":208},{"$f":"'Résultat du jour'!M16","v":0},13,17,8,null,null,null,"",14,17,14]
["Dominique",65,16.25,4,{"$f":"'Résultat du jour'!K12","v":142},{"$f":"'Résultat du jour'!M12","v":0},14,15,12,null,null,19,19,"","",""]
["Catherine",60,7.5,8,{"$f":"'Résultat du jour'!K11","v":0},{"$f":"'Résultat du jour'!M11","v":0},15,8,11,6,9,null,7,8,5,6]
["Hugo",53,6.625,8,{"$f":"'Résultat du jour'!K17","v":163},{"$f":"'Résultat du jour'!M17","v":0},16,7,10,9,null,9,4,6,3,5]
["Aldo",52,13,4,{"$f":"'Résultat du jour'!K8","v":148},{"$f":"'Résultat du jour'!M8","v":0},17,null,null,"","","",8,19,9,16]
["Francette",50,16.666666666666668,3,{"$f":"'Résultat du jour'!K13","v":189},{"$f":"'Résultat du jour'!M13","v":0},18,null,null,19,16,null,15,"","",""]
["Sandrine",48,12,4,{"$f":"'Résultat du jour'!K27","v":0},{"$f":"'Résultat du jour'!M27","v":0},19,null,null,17,null,14,"",10,7,""]
["François",45,7.5,6,{"$f":"'Résultat du jour'!K15","v":118},{"$f":"'Résultat du jour'!M15","v":0},20,9,9,null,7,null,"",7,6,7]
["Thierry",38,9.5,4,{"$f":"'Résultat du jour'!K30","v":0},{"$f":"'Résultat du jour'!M30","v":0},21,null,null,null,null,16,6,"",8,8]
["Bernard",32,10.666666666666666,3,{"$f":"'Résultat du jour'!K9","v":120},{"$f":"'Résultat du jour'!M9","v":0},22,null,null,14,8,10,"","","",""]
["Philippe",32,16,2,{"$f":"'Résultat du jour'!K26","v":0},{"$f":"'Résultat du jour'!M26","v":0},22,null,19,null,null,null,"",13,"",""]
["Sébastien D",23,11.5,2,{"$f":"'Résultat du jour'!K29","v":0},{"$f":"'Résultat du jour'!M29","v":0},24,null,null,"","","","","",10,13]
[null,"","","",{"$f":"'Résultat du jour'!K32","v":0},{"$f":"'Résultat du jour'!M32","v":0},"",null,null,"","","","","","",""]
[null,"","","",{"$f":"'Résultat du jour'!K33","v":0},{"$f":"'Résultat du jour'!M33","v":0},"",null,null,null,null,null,"","","",""]
[null,"","","",{"$f":"'Résultat du jour'!K34","v":0},{"$f":"'Résultat du jour'!M34","v":0},"",null,null,null,null,null,"","","",""]
[null,"","","",{"$f":"'Résultat du jour'!K35","v":0},{"$f":"'Résultat du jour'!M35","v":0},"",null,null,null,null,null,"","","",""]
[null,"","","",{"$f":"'Résultat du jour'!K36","v":0},{"$f":"'Résultat du jour'!M36","v":0},"",null,null,null,null,null,"","","",""]
[null,"","","",{"$f":"'Résultat du jour'!K37","v":0},{"$f":"'Résultat du jour'!M37","v":0},"",null,null,null,null,null,"","","",""]
[null,"","","",{"$f":"'Résultat du jour'!K38","v":0},{"$f":"'Résultat du jour'!M38","v":0},"",null,null,null,null,null,"","","",""]
[null,"","","",{"$f":"'Résultat du jour'!K39","v":0},{"$f":"'Résultat du jour'!M39","v":0},""]
[null,{"$f":"IF(SUM(H38:BG38)=0,\"\",SUM(H38:BG38))","v":""},{"$f":"IF(SUM($H38:$BG38)=0,\"\",SUM($H38:$BG38)/COUNTIF($H38:$BG38,\">=0\"))","v":""},{"$f":"IF(A38=\"\",\"\",COUNTIF(H38:BG38,\">=0\"))","v":""},{"$f":"'Résultat du jour'!K40","v":0},{"$f":"'Résultat du jour'!M40","v":0},{"$f":"IF(B38=\"\",\"\",RANK($B38,$B$6:$B$81,0))","v":""}]
[null,"","","",{"$f":"'Résultat du jour'!K41","v":0},{"$f":"'Résultat du jour'!M41","v":0},""]
[null,"","","",{"$f":"'Résultat du jour'!K42","v":0},{"$f":"'Résultat du jour'!M42","v":0},""]
[null,"","","",{"$f":"'Résultat du jour'!K43","v":0},{"$f":"'Résultat du jour'!M43","v":0},""]
[null,"","","",{"$f":"'Résultat du jour'!K44","v":0},{"$f":"'Résultat du jour'!M44","v":0},""]
[null,"","","",{"$f":"'Résultat du jour'!K45","v":0},{"$f":"'Résultat du jour'!M45","v":0},""]
[null,"","","",{"$f":"'Résultat du jour'!K46","v":0},{"$f":"'Résultat du jour'!M46","v":0},""]
[null,"","","",{"$f":"'Résultat du jour'!K47","v":0},{"$f":"'Résultat du jour'!M47","v":0},""]
[null,"","","",{"$f":"'Résultat du jour'!K48","v":0},{"$f":"'Résultat du jour'!M48","v":0},""]
[null,"","","",{"$f":"'Résultat du jour'!K49","v":0},{"$f":"'Résultat du jour'!M49","v":0},""]
[null,"","","",{"$f":"'Résultat du jour'!K50","v":0},{"$f":"'Résultat du jour'!M50","v":0},""]
[null,"","","",{"$f":"'Résultat du jour'!K51","v":0},{"$f":"'Résultat du jour'!M51","v":0},""]
[null,"","","",{"$f":"'Résultat du jour'!K52","v":0},{"$f":"'Résultat du jour'!M52","v":0},""]
[null,"","","",{"$f":"'Résultat du jour'!K53","v":0},{"$f":"'Résultat du jour'!M53","v":0},""]
[null,"","","",{"$f":"'Résultat du jour'!K54","v":0},{"$f":"'Résultat du jour'!M54","v":0},""]
[null,"","","",{"$f":"'Résultat du jour'!K55","v":0},{"$f":"'Résultat du jour'!M55","v":0},""]
[null,"","","",{"$f":"'Résultat du jour'!K56","v":0},{"$f":"'Résultat du jour'!M56","v":0},""]
[null,"","","",{"$f":"'Résultat du jour'!K57","v":0},{"$f":"'Résultat du jour'!M57","v":0},""]
[null,"","","",{"$f":"'Résultat du jour'!K58","v":0},{"$f":"'Résultat du jour'!M58","v":0},""]
[null,"","","",{"$f":"'Résultat du jour'!K59","v":0},{"$f":"'Résultat du jour'!M59","v":0},""]
[null,"","","",{"$f":"'Résultat du jour'!K60","v":0},{"$f":"'Résultat du jour'!M60","v":0},""]
[null,"","","",{"$f":"'Résultat du jour'!K61","v":0},{"$f":"'Résultat du jour'!M61","v":0},""]
[null,"","","",{"$f":"'Résultat du jour'!K62","v":0},{"$f":"'Résultat du jour'!M62","v":0},""]
[null,"","","",{"$f":"'Résultat du jour'!K63","v":0},{"$f":"'Résultat du jour'!M63","v":0},""]
[null,"","","",{"$f":"'Résultat du jour'!K64","v":0},{"$f":"'Résultat du jour'!M64","v":0},""]
[null,"","","",{"$f":"'Résultat du jour'!K65","v":0},{"$f":"'Résultat du jour'!M65","v":0},""]
[null,"","","",{"$f":"'Résultat du jour'!K66","v":0},{"$f":"'Résultat du jour'!M66","v":0},""]
[null,"","","",{"$f":"'Résultat du jour'!K67","v":0},{"$f":"'Résultat du jour'!M67","v":0},""]
[null,"","","",{"$f":"'Résultat du jour'!K68","v":0},{"$f":"'Résultat du jour'!M68","v":0},""]
[null,"","","",{"$f":"'Résultat du jour'!K69","v":0},{"$f":"'Résultat du jour'!M69","v":0},""]
[null,"","","",{"$f":"'Résultat du jour'!K70","v":0},{"$f":"'Résultat du jour'!M70","v":0},""]
[null,"","","",{"$f":"'Résultat du jour'!K71","v":0},{"$f":"'Résultat du jour'!M71","v":0},""]
[null,{"$f":"IF(SUM(H70:BG70)=0,\"\",SUM(H70:BG70))","v":""},{"$f":"IF(SUM($H70:$BG70)=0,\"\",SUM($H70:$BG70)/COUNTIF($H70:$BG70,\">=0\"))","v":""},{"$f":"IF(A70=\"\",\"\",COUNTIF(H70:BG70,\">=0\"))","v":""},{"$f":"'Résultat du jour'!K72","v":0},{"$f":"'Résultat du jour'!M72","v":0},{"$f":"IF(B70=\"\",\"\",RANK($B70,$B$6:$B$81,0))","v":""}]
[null,"","","",{"$f":"'Résultat du jour'!K73","v":0},{"$f":"'Résultat du jour'!M73","v":0},""]
[null,"","","",{"$f":"'Résultat du jour'!K74","v":0},{"$f":"'Résultat du jour'!M74","v":0},""]
[null,"","","",{"$f":"'Résultat du jour'!K75","v":0},{"$f":"'Résultat du jour'!M75","v":0},""]
[null,"","","",{"$f":"'Résultat du jour'!K76","v":0},{"$f":"'Résultat du jour'!M76","v":0},""]
[null,"","","",{"$f":"'Résultat du jour'!K77","v":0},{"$f":"'Résultat du jour'!M77","v":0},""]
[null,"","","",{"$f":"'Résultat du jour'!K78","v":0},{"$f":"'Résultat du jour'!M78","v":0},""]
[null,"","","",{"$f":"'Résultat du jour'!K79","v":0},{"$f":"'Résultat du jour'!M79","v":0},""]
[null,"","","",{"$f":"'Résultat du jour'!K80","v":0},{"$f":"'Résultat du jour'!M80","v":0},""]
[null,"","","",{"$f":"'Résultat du jour'!K81","v":0},{"$f":"'Résultat du jour'!M81","v":0},""]
[null,"","","",{"$f":"'Résultat du jour'!K82","v":0},{"$f":"'Résultat du jour'!M82","v":0},""]
[null,"","","",{"$f":"'Résultat du jour'!K83","v":0},{"$f":"'Résultat du jour'!M83","v":0},""]

{"sheet":"Pour le site Résultat","index":2,"n_rows":29,"n_cols":8,"rows_kept":29,"cut":false,"hidden":false,"merged":[[2,0,2,7],[0,0,0,7],[1,0,1,7]]}
[]
["Résultat"]
["du 14/09/2014"]
[]
["Rang",{"$f":"'Résultat du jour'!B7","v":"Prénom"},{"$f":"'Résultat du jour'!C7","v":"Points"},{"$f":"'Résultat du jour'!D7","v":"Série"},{"$f":"'Résultat du jour'!E7","v":"Moyenne"},{"$f":"'Résultat du jour'!F7","v":"L1"},{"$f":"'Résultat du jour'!G7","v":"L2"},{"$f":"'Résultat du jour'!H7","v":"L3"}]
[{"$f":"'Résultat du jour'!A18","v":1},{"$f":"'Résultat du jour'!B18","v":"Julien"},{"$f":"'Résultat du jour'!C18","v":20},{"$f":"'Résultat du jour'!D18","v":551},{"$f":"'Résultat du jour'!E18","v":183.66666666666666},{"$f":"'Résultat du jour'!F18","v":141},{"$f":"'Résultat du jour'!G18","v":205},{"$f":"'Résultat du jour'!H18","v":205}]
[{"$f":"'Résultat du jour'!A13","v":2},{"$f":"'Résultat du jour'!B13","v":"Jean-Yves"},{"$f":"'Résultat du jour'!C13","v":19},{"$f":"'Résultat du jour'!D13","v":542},{"$f":"'Résultat du jour'!E13","v":180.66666666666666},{"$f":"'Résultat du jour'!F13","v":172},{"$f":"'Résultat du jour'!G13","v":181},{"$f":"'Résultat du jour'!H13","v":189}]
[{"$f":"'Résultat du jour'!A10","v":3},{"$f":"'Résultat du jour'!B10","v":"Frederic"},{"$f":"'Résultat du jour'!C10","v":18},{"$f":"'Résultat du jour'!D10","v":474},{"$f":"'Résultat du jour'!E10","v":158},{"$f":"'Résultat du jour'!F10","v":161},{"$f":"'Résultat du jour'!G10","v":168},{"$f":"'Résultat du jour'!H10","v":145}]
[{"$f":"'Résultat du jour'!A16","v":4},{"$f":"'Résultat du jour'!B16","v":"Michel M"},{"$f":"'Résultat du jour'!C16","v":17},{"$f":"'Résultat du jour'!D16","v":472},{"$f":"'Résultat du jour'!E16","v":157.33333333333334},{"$f":"'Résultat du jour'!F16","v":208},{"$f":"'Résultat du jour'!G16","v":130},{"$f":"'Résultat du jour'!H16","v":134}]
[{"$f":"'Résultat du jour'!A14","v":5},{"$f":"'Résultat du jour'!B14","v":"Gerard"},{"$f":"'Résultat du jour'!C14","v":16},{"$f":"'Résultat du jour'!D14","v":454},{"$f":"'Résultat du jour'!E14","v":151.33333333333334},{"$f":"'Résultat du jour'!F14","v":154},{"$f":"'Résultat du jour'!G14","v":157},{"$f":"'Résultat du jour'!H14","v":143}]
[{"$f":"'Résultat du jour'!A17","v":6},{"$f":"'Résultat du jour'!B17","v":"Manu"},{"$f":"'Résultat du jour'!C17","v":15},{"$f":"'Résultat du jour'!D17","v":436},{"$f":"'Résultat du jour'!E17","v":145.33333333333334},{"$f":"'Résultat du jour'!F17","v":116},{"$f":"'Résultat du jour'!G17","v":163},{"$f":"'Résultat du jour'!H17","v":157}]
[{"$f":"'Résultat du jour'!A12","v":7},{"$f":"'Résultat du jour'!B12","v":"François"},{"$f":"'Résultat du jour'!C12","v":14},{"$f":"'Résultat du jour'!D12","v":259},{"$f":"'Résultat du jour'!E12","v":129.5},{"$f":"'Résultat du jour'!F12","v":117},{"$f":"'Résultat du jour'!G12","v":142},{"$f":"'Résultat du jour'!H12","v":0}]
[{"$f":"'Résultat du jour'!A8","v":8},{"$f":"'Résultat du jour'!B8","v":"Catherine"},{"$f":"'Résultat du jour'!C8","v":13},{"$f":"'Résultat du jour'!D8","v":380},{"$f":"'Résultat du jour'!E8","v":126.66666666666667},{"$f":"'Résultat du jour'!F8","v":148},{"$f":"'Résultat du jour'!G8","v":108},{"$f":"'Résultat du jour'!H8","v":124}]
[{"$f":"'Résultat du jour'!A20","v":9},{"$f":"'Résultat du jour'!B20","v":"Daniel"},{"$f":"'Résultat du jour'!C20","v":12},{"$f":"'Résultat du jour'!D20","v":379},{"$f":"'Résultat du jour'!E20","v":126.33333333333333},{"$f":"'Résultat du jour'!F20","v":127},{"$f":"'Résultat du jour'!G20","v":141},{"$f":"'Résultat du jour'!H20","v":111}]
[{"$f":"'Résultat du jour'!A15","v":10},{"$f":"'Résultat du jour'!B15","v":"Paul"},{"$f":"'Résultat du jour'!C15","v":11},{"$f":"'Résultat du jour'!D15","v":340},{"$f":"'Résultat du jour'!E15","v":113.33333333333333},{"$f":"'Résultat du jour'!F15","v":113},{"$f":"'Résultat du jour'!G15","v":118},{"$f":"'Résultat du jour'!H15","v":109}]
[{"$f":"'Résultat du jour'!A9","v":11},{"$f":"'Résultat du jour'!B9","v":"Brigitte"},{"$f":"'Résultat du jour'!C9","v":10},{"$f":"'Résultat du jour'!D9","v":304},{"$f":"'Résultat du jour'!E9","v":101.33333333333333},{"$f":"'Résultat du jour'!F9","v":82},{"$f":"'Résultat du jour'!G9","v":120},{"$f":"'Résultat du jour'!H9","v":102}]
[{"$f":"'Résultat du jour'!A19","v":12},{"$f":"'Résultat du jour'!B19","v":"Bernard"},{"$f":"'Résultat du jour'!C19","v":9},{"$f":"'Résultat du jour'!D19","v":303},{"$f":"'Résultat du jour'!E19","v":101},{"$f":"'Résultat du jour'!F19","v":81},{"$f":"'Résultat du jour'!G19","v":104},{"$f":"'Résultat du jour'!H19","v":118}]
[{"$f":"'Résultat du jour'!A11","v":""},{"$f":"'Résultat du jour'!B11","v":"Franck"},{"$f":"'Résultat du jour'!C11","v":""},{"$f":"'Résultat du jour'!D11","v":""},{"$f":"'Résultat du jour'!E11","v":""},{"$f":"'Résultat du jour'!F11","v":0},{"$f":"'Résultat du jour'!G11","v":0},{"$f":"'Résultat du jour'!H11","v":0}]
[{"$f":"'Résultat du jour'!A21","v":""},{"$f":"'Résultat du jour'!B21","v":0},{"$f":"'Résultat du jour'!C21","v":""},{"$f":"'Résultat du jour'!D21","v":""},{"$f":"'Résultat du jour'!E21","v":""},{"$f":"'Résultat du jour'!F21","v":0},{"$f":"'Résultat du jour'!G21","v":0},{"$f":"'Résultat du jour'!H21","v":0}]
[{"$f":"'Résultat du jour'!A22","v":""},{"$f":"'Résultat du jour'!B22","v":0},{"$f":"'Résultat du jour'!C22","v":""},{"$f":"'Résultat du jour'!D22","v":""},{"$f":"'Résultat du jour'!E22","v":""},{"$f":"'Résultat du jour'!F22","v":0},{"$f":"'Résultat du jour'!G22","v":0},{"$f":"'Résultat du jour'!H22","v":0}]
[{"$f":"'Résultat du jour'!A23","v":""},{"$f":"'Résultat du jour'!B23","v":0},{"$f":"'Résultat du jour'!C23","v":""},{"$f":"'Résultat du jour'!D23","v":""},{"$f":"'Résultat du jour'!E23","v":""},{"$f":"'Résultat du jour'!F23","v":0},{"$f":"'Résultat du jour'!G23","v":0},{"$f":"'Résultat du jour'!H23","v":0}]
[{"$f":"'Résultat du jour'!A24","v":""},{"$f":"'Résultat du jour'!B24","v":0},{"$f":"'Résultat du jour'!C24","v":""},{"$f":"'Résultat du jour'!D24","v":""},{"$f":"'Résultat du jour'!E24","v":""},{"$f":"'Résultat du jour'!F24","v":0},{"$f":"'Résultat du jour'!G24","v":0},{"$f":"'Résultat du jour'!H24","v":0}]
[{"$f":"'Résultat du jour'!A25","v":""},{"$f":"'Résultat du jour'!B25","v":0},{"$f":"'Résultat du jour'!C25","v":""},{"$f":"'Résultat du jour'!D25","v":""},{"$f":"'Résultat du jour'!E25","v":""},{"$f":"'Résultat du jour'!F25","v":0},{"$f":"'Résultat du jour'!G25","v":0},{"$f":"'Résultat du jour'!H25","v":0}]
[{"$f":"'Résultat du jour'!A26","v":""},{"$f":"'Résultat du jour'!B26","v":0},{"$f":"'Résultat du jour'!C26","v":""},{"$f":"'Résultat du jour'!D26","v":""},{"$f":"'Résultat du jour'!E26","v":""},{"$f":"'Résultat du jour'!F26","v":0},{"$f":"'Résultat du jour'!G26","v":0},{"$f":"'Résultat du jour'!H26","v":0}]
[{"$f":"'Résultat du jour'!A27","v":""},{"$f":"'Résultat du jour'!B27","v":0},{"$f":"'Résultat du jour'!C27","v":""},{"$f":"'Résultat du jour'!D27","v":""},{"$f":"'Résultat du jour'!E27","v":""},{"$f":"'Résultat du jour'!F27","v":0},{"$f":"'Résultat du jour'!G27","v":0},{"$f":"'Résultat du jour'!H27","v":0}]
[{"$f":"'Résultat du jour'!A28","v":""},{"$f":"'Résultat du jour'!B28","v":0},{"$f":"'Résultat du jour'!C28","v":""},{"$f":"'Résultat du jour'!D28","v":""},{"$f":"'Résultat du jour'!E28","v":""},{"$f":"'Résultat du jour'!F28","v":0},{"$f":"'Résultat du jour'!G28","v":0},{"$f":"'Résultat du jour'!H28","v":0}]
[{"$f":"'Résultat du jour'!A29","v":""},{"$f":"'Résultat du jour'!B29","v":0},{"$f":"'Résultat du jour'!C29","v":""},{"$f":"'Résultat du jour'!D29","v":""},{"$f":"'Résultat du jour'!E29","v":""},{"$f":"'Résultat du jour'!F29","v":0},{"$f":"'Résultat du jour'!G29","v":0},{"$f":"'Résultat du jour'!H29","v":0}]
[{"$f":"'Résultat du jour'!A30","v":""},{"$f":"'Résultat du jour'!B30","v":0},{"$f":"'Résultat du jour'!C30","v":""},{"$f":"'Résultat du jour'!D30","v":""},{"$f":"'Résultat du jour'!E30","v":""},{"$f":"'Résultat du jour'!F30","v":0},{"$f":"'Résultat du jour'!G30","v":0},{"$f":"'Résultat du jour'!H30","v":0}]
[{"$f":"'Résultat du jour'!A31","v":""},{"$f":"'Résultat du jour'!B31","v":0},{"$f":"'Résultat du jour'!C31","v":""},{"$f":"'Résultat du jour'!D31","v":""},{"$f":"'Résultat du jour'!E31","v":""},{"$f":"'Résultat du jour'!F31","v":0},{"$f":"'Résultat du jour'!G31","v":0},{"$f":"'Résultat du jour'!H31","v":0}]

{"sheet":"Pour le site Classement","index":3,"n_rows":33,"n_cols":7,"rows_kept":33,"cut":false,"hidden":false,"merged":[[0,0,2,6]]}
["Classement"]
[]
[]
[]
["Rang",{"$f":"'Résultat du jour'!B7","v":"Prénom"},{"$f":"'Résultat du jour'!C7","v":"Points"},"NB Jours","Moy Points","ML*","MS*"]
[{"$f":"Résultats!G6","v":1}]
[{"$f":"Résultats!G7","v":2}]
[{"$f":"Résultats!G8","v":3}]
[{"$f":"Résultats!G9","v":4}]
[{"$f":"Résultats!G10","v":5}]
[{"$f":"Résultats!G11","v":6}]
[{"$f":"Résultats!G12","v":7}]
[{"$f":"Résultats!G13","v":8}]
[{"$f":"Résultats!G14","v":9}]
[{"$f":"Résultats!G15","v":10}]
[{"$f":"Résultats!G16","v":11}]
[{"$f":"Résultats!G17","v":12}]
[{"$f":"Résultats!G18","v":13}]
[{"$f":"Résultats!G19","v":14}]
[{"$f":"Résultats!G20","v":15}]
[{"$f":"Résultats!G21","v":16}]
[{"$f":"Résultats!G22","v":17}]
[{"$f":"Résultats!G23","v":18}]
[{"$f":"Résultats!G24","v":19}]
[{"$f":"Résultats!G25","v":20}]
[{"$f":"Résultats!G26","v":21}]
[{"$f":"Résultats!G27","v":22}]
[{"$f":"Résultats!G28","v":22}]
[{"$f":"Résultats!G29","v":24}]
[{"$f":"Résultats!G30","v":""},{"$f":"Résultats!A30","v":0},{"$f":"Résultats!B30","v":""},{"$f":"Résultats!D30","v":""},{"$f":"Résultats!C30","v":""},{"$f":"Résultats!E30","v":0},{"$f":"Résultats!F30","v":0}]
[]
["* ML : Meilleur Ligne"]
["* MS : Meilleur Série"]